BEGIN:VCALENDAR
VERSION:2.0
PRODID:-//Handbalschool Amstelland - ECPv6.15.20//NONSGML v1.0//EN
CALSCALE:GREGORIAN
METHOD:PUBLISH
X-ORIGINAL-URL:https://handbalschoolamstelland.nl
X-WR-CALDESC:Evenementen voor Handbalschool Amstelland
REFRESH-INTERVAL;VALUE=DURATION:PT1H
X-Robots-Tag:noindex
X-PUBLISHED-TTL:PT1H
BEGIN:VTIMEZONE
TZID:Europe/Amsterdam
BEGIN:DAYLIGHT
TZOFFSETFROM:+0100
TZOFFSETTO:+0200
TZNAME:CEST
DTSTART:20250330T010000
END:DAYLIGHT
BEGIN:STANDARD
TZOFFSETFROM:+0200
TZOFFSETTO:+0100
TZNAME:CET
DTSTART:20251026T010000
END:STANDARD
BEGIN:DAYLIGHT
TZOFFSETFROM:+0100
TZOFFSETTO:+0200
TZNAME:CEST
DTSTART:20260329T010000
END:DAYLIGHT
BEGIN:STANDARD
TZOFFSETFROM:+0200
TZOFFSETTO:+0100
TZNAME:CET
DTSTART:20261025T010000
END:STANDARD
BEGIN:DAYLIGHT
TZOFFSETFROM:+0100
TZOFFSETTO:+0200
TZNAME:CEST
DTSTART:20270328T010000
END:DAYLIGHT
BEGIN:STANDARD
TZOFFSETFROM:+0200
TZOFFSETTO:+0100
TZNAME:CET
DTSTART:20271031T010000
END:STANDARD
END:VTIMEZONE
BEGIN:VEVENT
DTSTART;TZID=Europe/Amsterdam:20260306T163000
DTEND;TZID=Europe/Amsterdam:20260306T180000
DTSTAMP:20260423T002605
CREATED:20251017T220620Z
LAST-MODIFIED:20251017T220620Z
UID:1747-1772814600-1772820000@handbalschoolamstelland.nl
SUMMARY:Training E-Jeugd
DESCRIPTION:
URL:https://handbalschoolamstelland.nl/training/training-e-jeugd-18/
LOCATION:Aristoshal\, Tom Schreursweg 10\, Amsterdam\, Noord Holland\, 1067MC\, Netherlands
CATEGORIES:Training
END:VEVENT
BEGIN:VEVENT
DTSTART;TZID=Europe/Amsterdam:20260313T163000
DTEND;TZID=Europe/Amsterdam:20260313T180000
DTSTAMP:20260423T002605
CREATED:20251017T220620Z
LAST-MODIFIED:20251017T220620Z
UID:1748-1773419400-1773424800@handbalschoolamstelland.nl
SUMMARY:Training E-Jeugd
DESCRIPTION:
URL:https://handbalschoolamstelland.nl/training/training-e-jeugd-19/
LOCATION:Aristoshal\, Tom Schreursweg 10\, Amsterdam\, Noord Holland\, 1067MC\, Netherlands
CATEGORIES:Training
END:VEVENT
BEGIN:VEVENT
DTSTART;TZID=Europe/Amsterdam:20260320T163000
DTEND;TZID=Europe/Amsterdam:20260320T180000
DTSTAMP:20260423T002605
CREATED:20251017T220634Z
LAST-MODIFIED:20251017T220634Z
UID:1749-1774024200-1774029600@handbalschoolamstelland.nl
SUMMARY:Training E-Jeugd
DESCRIPTION:
URL:https://handbalschoolamstelland.nl/training/training-e-jeugd-20/
LOCATION:Aristoshal\, Tom Schreursweg 10\, Amsterdam\, Noord Holland\, 1067MC\, Netherlands
CATEGORIES:Training
END:VEVENT
BEGIN:VEVENT
DTSTART;TZID=Europe/Amsterdam:20260327T163000
DTEND;TZID=Europe/Amsterdam:20260327T180000
DTSTAMP:20260423T002605
CREATED:20251017T220635Z
LAST-MODIFIED:20251017T220635Z
UID:1750-1774629000-1774634400@handbalschoolamstelland.nl
SUMMARY:Training E-Jeugd
DESCRIPTION:
URL:https://handbalschoolamstelland.nl/training/training-e-jeugd-21/
LOCATION:Aristoshal\, Tom Schreursweg 10\, Amsterdam\, Noord Holland\, 1067MC\, Netherlands
CATEGORIES:Training
END:VEVENT
END:VCALENDAR