BEGIN:VCALENDAR
VERSION:2.0
PRODID:-//Handbalschool Amstelland - ECPv6.15.20//NONSGML v1.0//EN
CALSCALE:GREGORIAN
METHOD:PUBLISH
X-WR-CALNAME:Handbalschool Amstelland
X-ORIGINAL-URL:https://handbalschoolamstelland.nl
X-WR-CALDESC:Evenementen voor Handbalschool Amstelland
REFRESH-INTERVAL;VALUE=DURATION:PT1H
X-Robots-Tag:noindex
X-PUBLISHED-TTL:PT1H
BEGIN:VTIMEZONE
TZID:Europe/Amsterdam
BEGIN:DAYLIGHT
TZOFFSETFROM:+0100
TZOFFSETTO:+0200
TZNAME:CEST
DTSTART:20240331T010000
END:DAYLIGHT
BEGIN:STANDARD
TZOFFSETFROM:+0200
TZOFFSETTO:+0100
TZNAME:CET
DTSTART:20241027T010000
END:STANDARD
BEGIN:DAYLIGHT
TZOFFSETFROM:+0100
TZOFFSETTO:+0200
TZNAME:CEST
DTSTART:20250330T010000
END:DAYLIGHT
BEGIN:STANDARD
TZOFFSETFROM:+0200
TZOFFSETTO:+0100
TZNAME:CET
DTSTART:20251026T010000
END:STANDARD
BEGIN:DAYLIGHT
TZOFFSETFROM:+0100
TZOFFSETTO:+0200
TZNAME:CEST
DTSTART:20260329T010000
END:DAYLIGHT
BEGIN:STANDARD
TZOFFSETFROM:+0200
TZOFFSETTO:+0100
TZNAME:CET
DTSTART:20261025T010000
END:STANDARD
BEGIN:DAYLIGHT
TZOFFSETFROM:+0100
TZOFFSETTO:+0200
TZNAME:CEST
DTSTART:20270328T010000
END:DAYLIGHT
BEGIN:STANDARD
TZOFFSETFROM:+0200
TZOFFSETTO:+0100
TZNAME:CET
DTSTART:20271031T010000
END:STANDARD
END:VTIMEZONE
BEGIN:VEVENT
DTSTART;TZID=Europe/Amsterdam:20260418T093000
DTEND;TZID=Europe/Amsterdam:20260418T093000
DTSTAMP:20260422T195739
CREATED:20251017T215309Z
LAST-MODIFIED:20251017T215309Z
UID:1722-1776504600-1776504600@handbalschoolamstelland.nl
SUMMARY:Training D-Jeugd
DESCRIPTION:
URL:https://handbalschoolamstelland.nl/training/training-d-jeugd-26/
LOCATION:De Bloemhof\, Braziliëlaan 6a\, Aalsmeer\, Noord Holland\, 1432DG\, Netherlands
CATEGORIES:Training
END:VEVENT
BEGIN:VEVENT
DTSTART;TZID=Europe/Amsterdam:20260418T080000
DTEND;TZID=Europe/Amsterdam:20260418T093000
DTSTAMP:20260422T195739
CREATED:20251018T192025Z
LAST-MODIFIED:20251018T192025Z
UID:1955-1776499200-1776504600@handbalschoolamstelland.nl
SUMMARY:Training D-Jeugd
DESCRIPTION:
URL:https://handbalschoolamstelland.nl/training/training-d-jeugd-51/
LOCATION:De Bloemhof\, Braziliëlaan 6a\, Aalsmeer\, Noord Holland\, 1432DG\, Netherlands
CATEGORIES:Training
END:VEVENT
BEGIN:VEVENT
DTSTART;TZID=Europe/Amsterdam:20260411T080000
DTEND;TZID=Europe/Amsterdam:20260411T093000
DTSTAMP:20260422T195739
CREATED:20251018T192041Z
LAST-MODIFIED:20251018T192041Z
UID:1962-1775894400-1775899800@handbalschoolamstelland.nl
SUMMARY:Training D-Jeugd
DESCRIPTION:
URL:https://handbalschoolamstelland.nl/training/training-d-jeugd-58/
LOCATION:Aristoshal\, Tom Schreursweg 10\, Amsterdam\, Noord Holland\, 1067MC\, Netherlands
CATEGORIES:Training
END:VEVENT
BEGIN:VEVENT
DTSTART;TZID=Europe/Amsterdam:20260328T093000
DTEND;TZID=Europe/Amsterdam:20260328T093000
DTSTAMP:20260422T195739
CREATED:20251017T215255Z
LAST-MODIFIED:20251017T215255Z
UID:1721-1774690200-1774690200@handbalschoolamstelland.nl
SUMMARY:Training D-Jeugd
DESCRIPTION:
URL:https://handbalschoolamstelland.nl/training/training-d-jeugd-25/
LOCATION:De Bloemhof\, Braziliëlaan 6a\, Aalsmeer\, Noord Holland\, 1432DG\, Netherlands
CATEGORIES:Training
END:VEVENT
BEGIN:VEVENT
DTSTART;TZID=Europe/Amsterdam:20260328T080000
DTEND;TZID=Europe/Amsterdam:20260328T093000
DTSTAMP:20260422T195739
CREATED:20251018T192011Z
LAST-MODIFIED:20251018T192011Z
UID:1954-1774684800-1774690200@handbalschoolamstelland.nl
SUMMARY:Training D-Jeugd
DESCRIPTION:
URL:https://handbalschoolamstelland.nl/training/training-d-jeugd-50/
LOCATION:De Bloemhof\, Braziliëlaan 6a\, Aalsmeer\, Noord Holland\, 1432DG\, Netherlands
CATEGORIES:Training
END:VEVENT
BEGIN:VEVENT
DTSTART;TZID=Europe/Amsterdam:20260321T093000
DTEND;TZID=Europe/Amsterdam:20260321T093000
DTSTAMP:20260422T195739
CREATED:20251017T215254Z
LAST-MODIFIED:20251017T215254Z
UID:1720-1774085400-1774085400@handbalschoolamstelland.nl
SUMMARY:Training D-Jeugd
DESCRIPTION:
URL:https://handbalschoolamstelland.nl/training/training-d-jeugd-24/
LOCATION:De Bloemhof\, Braziliëlaan 6a\, Aalsmeer\, Noord Holland\, 1432DG\, Netherlands
CATEGORIES:Training
END:VEVENT
BEGIN:VEVENT
DTSTART;TZID=Europe/Amsterdam:20260321T080000
DTEND;TZID=Europe/Amsterdam:20260321T093000
DTSTAMP:20260422T195739
CREATED:20251018T192011Z
LAST-MODIFIED:20251018T192011Z
UID:1953-1774080000-1774085400@handbalschoolamstelland.nl
SUMMARY:Training D-Jeugd
DESCRIPTION:
URL:https://handbalschoolamstelland.nl/training/training-d-jeugd-49/
LOCATION:De Bloemhof\, Braziliëlaan 6a\, Aalsmeer\, Noord Holland\, 1432DG\, Netherlands
CATEGORIES:Training
END:VEVENT
BEGIN:VEVENT
DTSTART;TZID=Europe/Amsterdam:20260314T093000
DTEND;TZID=Europe/Amsterdam:20260314T093000
DTSTAMP:20260422T195739
CREATED:20251017T215254Z
LAST-MODIFIED:20251017T215254Z
UID:1719-1773480600-1773480600@handbalschoolamstelland.nl
SUMMARY:Training D-Jeugd
DESCRIPTION:
URL:https://handbalschoolamstelland.nl/training/training-d-jeugd-23/
LOCATION:De Bloemhof\, Braziliëlaan 6a\, Aalsmeer\, Noord Holland\, 1432DG\, Netherlands
CATEGORIES:Training
END:VEVENT
BEGIN:VEVENT
DTSTART;TZID=Europe/Amsterdam:20260314T080000
DTEND;TZID=Europe/Amsterdam:20260314T093000
DTSTAMP:20260422T195739
CREATED:20251018T192010Z
LAST-MODIFIED:20251018T192010Z
UID:1952-1773475200-1773480600@handbalschoolamstelland.nl
SUMMARY:Training D-Jeugd
DESCRIPTION:
URL:https://handbalschoolamstelland.nl/training/training-d-jeugd-48/
LOCATION:De Bloemhof\, Braziliëlaan 6a\, Aalsmeer\, Noord Holland\, 1432DG\, Netherlands
CATEGORIES:Training
END:VEVENT
BEGIN:VEVENT
DTSTART;TZID=Europe/Amsterdam:20260307T093000
DTEND;TZID=Europe/Amsterdam:20260307T093000
DTSTAMP:20260422T195739
CREATED:20251017T215254Z
LAST-MODIFIED:20251017T215254Z
UID:1718-1772875800-1772875800@handbalschoolamstelland.nl
SUMMARY:Training D-Jeugd
DESCRIPTION:
URL:https://handbalschoolamstelland.nl/training/training-d-jeugd-22/
LOCATION:De Bloemhof\, Braziliëlaan 6a\, Aalsmeer\, Noord Holland\, 1432DG\, Netherlands
CATEGORIES:Training
END:VEVENT
BEGIN:VEVENT
DTSTART;TZID=Europe/Amsterdam:20260307T080000
DTEND;TZID=Europe/Amsterdam:20260307T093000
DTSTAMP:20260422T195739
CREATED:20251018T192010Z
LAST-MODIFIED:20251018T192010Z
UID:1951-1772870400-1772875800@handbalschoolamstelland.nl
SUMMARY:Training D-Jeugd
DESCRIPTION:
URL:https://handbalschoolamstelland.nl/training/training-d-jeugd-47/
LOCATION:De Bloemhof\, Braziliëlaan 6a\, Aalsmeer\, Noord Holland\, 1432DG\, Netherlands
CATEGORIES:Training
END:VEVENT
BEGIN:VEVENT
DTSTART;TZID=Europe/Amsterdam:20260214T093000
DTEND;TZID=Europe/Amsterdam:20260214T093000
DTSTAMP:20260422T195739
CREATED:20251017T215253Z
LAST-MODIFIED:20251017T215253Z
UID:1717-1771061400-1771061400@handbalschoolamstelland.nl
SUMMARY:Training D-Jeugd
DESCRIPTION:
URL:https://handbalschoolamstelland.nl/training/training-d-jeugd-21/
LOCATION:De Bloemhof\, Braziliëlaan 6a\, Aalsmeer\, Noord Holland\, 1432DG\, Netherlands
CATEGORIES:Training
END:VEVENT
BEGIN:VEVENT
DTSTART;TZID=Europe/Amsterdam:20260214T080000
DTEND;TZID=Europe/Amsterdam:20260214T093000
DTSTAMP:20260422T195739
CREATED:20251018T192010Z
LAST-MODIFIED:20251018T192010Z
UID:1950-1771056000-1771061400@handbalschoolamstelland.nl
SUMMARY:Training D-Jeugd
DESCRIPTION:
URL:https://handbalschoolamstelland.nl/training/training-d-jeugd-46/
LOCATION:De Bloemhof\, Braziliëlaan 6a\, Aalsmeer\, Noord Holland\, 1432DG\, Netherlands
CATEGORIES:Training
END:VEVENT
BEGIN:VEVENT
DTSTART;TZID=Europe/Amsterdam:20260207T093000
DTEND;TZID=Europe/Amsterdam:20260207T093000
DTSTAMP:20260422T195739
CREATED:20251017T215239Z
LAST-MODIFIED:20251017T215239Z
UID:1716-1770456600-1770456600@handbalschoolamstelland.nl
SUMMARY:Training D-Jeugd
DESCRIPTION:
URL:https://handbalschoolamstelland.nl/training/training-d-jeugd-20/
LOCATION:De Bloemhof\, Braziliëlaan 6a\, Aalsmeer\, Noord Holland\, 1432DG\, Netherlands
CATEGORIES:Training
END:VEVENT
BEGIN:VEVENT
DTSTART;TZID=Europe/Amsterdam:20260207T080000
DTEND;TZID=Europe/Amsterdam:20260207T093000
DTSTAMP:20260422T195739
CREATED:20251018T191956Z
LAST-MODIFIED:20251018T191956Z
UID:1949-1770451200-1770456600@handbalschoolamstelland.nl
SUMMARY:Training D-Jeugd
DESCRIPTION:
URL:https://handbalschoolamstelland.nl/training/training-d-jeugd-45/
LOCATION:De Bloemhof\, Braziliëlaan 6a\, Aalsmeer\, Noord Holland\, 1432DG\, Netherlands
CATEGORIES:Training
END:VEVENT
BEGIN:VEVENT
DTSTART;TZID=Europe/Amsterdam:20260131T093000
DTEND;TZID=Europe/Amsterdam:20260131T093000
DTSTAMP:20260422T195739
CREATED:20251017T215239Z
LAST-MODIFIED:20251017T215239Z
UID:1715-1769851800-1769851800@handbalschoolamstelland.nl
SUMMARY:Training D-Jeugd
DESCRIPTION:
URL:https://handbalschoolamstelland.nl/training/training-d-jeugd-19/
LOCATION:De Bloemhof\, Braziliëlaan 6a\, Aalsmeer\, Noord Holland\, 1432DG\, Netherlands
CATEGORIES:Training
END:VEVENT
BEGIN:VEVENT
DTSTART;TZID=Europe/Amsterdam:20260131T080000
DTEND;TZID=Europe/Amsterdam:20260131T093000
DTSTAMP:20260422T195739
CREATED:20251018T191956Z
LAST-MODIFIED:20251018T191956Z
UID:1948-1769846400-1769851800@handbalschoolamstelland.nl
SUMMARY:Training D-Jeugd
DESCRIPTION:
URL:https://handbalschoolamstelland.nl/training/training-d-jeugd-44/
LOCATION:De Bloemhof\, Braziliëlaan 6a\, Aalsmeer\, Noord Holland\, 1432DG\, Netherlands
CATEGORIES:Training
END:VEVENT
BEGIN:VEVENT
DTSTART;TZID=Europe/Amsterdam:20260124T093000
DTEND;TZID=Europe/Amsterdam:20260124T093000
DTSTAMP:20260422T195739
CREATED:20251017T215239Z
LAST-MODIFIED:20251017T215239Z
UID:1714-1769247000-1769247000@handbalschoolamstelland.nl
SUMMARY:Training D-Jeugd
DESCRIPTION:
URL:https://handbalschoolamstelland.nl/training/training-d-jeugd-18/
LOCATION:De Bloemhof\, Braziliëlaan 6a\, Aalsmeer\, Noord Holland\, 1432DG\, Netherlands
CATEGORIES:Training
END:VEVENT
BEGIN:VEVENT
DTSTART;TZID=Europe/Amsterdam:20260124T080000
DTEND;TZID=Europe/Amsterdam:20260124T093000
DTSTAMP:20260422T195739
CREATED:20251018T191955Z
LAST-MODIFIED:20251018T191955Z
UID:1947-1769241600-1769247000@handbalschoolamstelland.nl
SUMMARY:Training D-Jeugd
DESCRIPTION:
URL:https://handbalschoolamstelland.nl/training/training-d-jeugd-43/
LOCATION:De Bloemhof\, Braziliëlaan 6a\, Aalsmeer\, Noord Holland\, 1432DG\, Netherlands
CATEGORIES:Training
END:VEVENT
BEGIN:VEVENT
DTSTART;TZID=Europe/Amsterdam:20260117T093000
DTEND;TZID=Europe/Amsterdam:20260117T093000
DTSTAMP:20260422T195739
CREATED:20251017T215239Z
LAST-MODIFIED:20251017T215239Z
UID:1713-1768642200-1768642200@handbalschoolamstelland.nl
SUMMARY:Training D-Jeugd
DESCRIPTION:
URL:https://handbalschoolamstelland.nl/training/training-d-jeugd-17/
LOCATION:De Bloemhof\, Braziliëlaan 6a\, Aalsmeer\, Noord Holland\, 1432DG\, Netherlands
CATEGORIES:Training
END:VEVENT
BEGIN:VEVENT
DTSTART;TZID=Europe/Amsterdam:20260117T080000
DTEND;TZID=Europe/Amsterdam:20260117T093000
DTSTAMP:20260422T195739
CREATED:20251018T191955Z
LAST-MODIFIED:20251018T191955Z
UID:1946-1768636800-1768642200@handbalschoolamstelland.nl
SUMMARY:Training D-Jeugd
DESCRIPTION:
URL:https://handbalschoolamstelland.nl/training/training-d-jeugd-42/
LOCATION:De Bloemhof\, Braziliëlaan 6a\, Aalsmeer\, Noord Holland\, 1432DG\, Netherlands
CATEGORIES:Training
END:VEVENT
BEGIN:VEVENT
DTSTART;TZID=Europe/Amsterdam:20260110T093000
DTEND;TZID=Europe/Amsterdam:20260110T093000
DTSTAMP:20260422T195739
CREATED:20251017T215238Z
LAST-MODIFIED:20251017T215238Z
UID:1712-1768037400-1768037400@handbalschoolamstelland.nl
SUMMARY:Training D-Jeugd
DESCRIPTION:
URL:https://handbalschoolamstelland.nl/training/training-d-jeugd-16/
LOCATION:De Bloemhof\, Braziliëlaan 6a\, Aalsmeer\, Noord Holland\, 1432DG\, Netherlands
CATEGORIES:Training
END:VEVENT
BEGIN:VEVENT
DTSTART;TZID=Europe/Amsterdam:20260110T080000
DTEND;TZID=Europe/Amsterdam:20260110T093000
DTSTAMP:20260422T195739
CREATED:20251018T191955Z
LAST-MODIFIED:20251018T191955Z
UID:1945-1768032000-1768037400@handbalschoolamstelland.nl
SUMMARY:Training D-Jeugd
DESCRIPTION:
URL:https://handbalschoolamstelland.nl/training/training-d-jeugd-41/
LOCATION:De Bloemhof\, Braziliëlaan 6a\, Aalsmeer\, Noord Holland\, 1432DG\, Netherlands
CATEGORIES:Training
END:VEVENT
BEGIN:VEVENT
DTSTART;TZID=Europe/Amsterdam:20251213T093000
DTEND;TZID=Europe/Amsterdam:20251213T093000
DTSTAMP:20260422T195739
CREATED:20251017T215224Z
LAST-MODIFIED:20251017T215224Z
UID:1711-1765618200-1765618200@handbalschoolamstelland.nl
SUMMARY:Training D-Jeugd
DESCRIPTION:
URL:https://handbalschoolamstelland.nl/training/training-d-jeugd-15/
LOCATION:De Bloemhof\, Braziliëlaan 6a\, Aalsmeer\, Noord Holland\, 1432DG\, Netherlands
CATEGORIES:Training
END:VEVENT
BEGIN:VEVENT
DTSTART;TZID=Europe/Amsterdam:20251213T080000
DTEND;TZID=Europe/Amsterdam:20251213T093000
DTSTAMP:20260422T195739
CREATED:20251018T191941Z
LAST-MODIFIED:20251018T191941Z
UID:1944-1765612800-1765618200@handbalschoolamstelland.nl
SUMMARY:Training D-Jeugd
DESCRIPTION:
URL:https://handbalschoolamstelland.nl/training/training-d-jeugd-40/
LOCATION:De Bloemhof\, Braziliëlaan 6a\, Aalsmeer\, Noord Holland\, 1432DG\, Netherlands
CATEGORIES:Training
END:VEVENT
BEGIN:VEVENT
DTSTART;TZID=Europe/Amsterdam:20251206T093000
DTEND;TZID=Europe/Amsterdam:20251206T093000
DTSTAMP:20260422T195739
CREATED:20251017T215224Z
LAST-MODIFIED:20251017T215224Z
UID:1710-1765013400-1765013400@handbalschoolamstelland.nl
SUMMARY:Training D-Jeugd
DESCRIPTION:
URL:https://handbalschoolamstelland.nl/training/training-d-jeugd-14/
LOCATION:De Bloemhof\, Braziliëlaan 6a\, Aalsmeer\, Noord Holland\, 1432DG\, Netherlands
CATEGORIES:Training
END:VEVENT
BEGIN:VEVENT
DTSTART;TZID=Europe/Amsterdam:20251206T080000
DTEND;TZID=Europe/Amsterdam:20251206T093000
DTSTAMP:20260422T195739
CREATED:20251018T191941Z
LAST-MODIFIED:20251018T191941Z
UID:1943-1765008000-1765013400@handbalschoolamstelland.nl
SUMMARY:Training D-Jeugd
DESCRIPTION:
URL:https://handbalschoolamstelland.nl/training/training-d-jeugd-39/
LOCATION:De Bloemhof\, Braziliëlaan 6a\, Aalsmeer\, Noord Holland\, 1432DG\, Netherlands
CATEGORIES:Training
END:VEVENT
BEGIN:VEVENT
DTSTART;TZID=Europe/Amsterdam:20251129T093000
DTEND;TZID=Europe/Amsterdam:20251129T093000
DTSTAMP:20260422T195739
CREATED:20251017T215223Z
LAST-MODIFIED:20251017T215223Z
UID:1709-1764408600-1764408600@handbalschoolamstelland.nl
SUMMARY:Training D-Jeugd
DESCRIPTION:
URL:https://handbalschoolamstelland.nl/training/training-d-jeugd-13/
LOCATION:De Bloemhof\, Braziliëlaan 6a\, Aalsmeer\, Noord Holland\, 1432DG\, Netherlands
CATEGORIES:Training
END:VEVENT
BEGIN:VEVENT
DTSTART;TZID=Europe/Amsterdam:20251129T080000
DTEND;TZID=Europe/Amsterdam:20251129T093000
DTSTAMP:20260422T195739
CREATED:20251018T191940Z
LAST-MODIFIED:20251018T191940Z
UID:1942-1764403200-1764408600@handbalschoolamstelland.nl
SUMMARY:Training D-Jeugd
DESCRIPTION:
URL:https://handbalschoolamstelland.nl/training/training-d-jeugd-38/
LOCATION:De Bloemhof\, Braziliëlaan 6a\, Aalsmeer\, Noord Holland\, 1432DG\, Netherlands
CATEGORIES:Training
END:VEVENT
BEGIN:VEVENT
DTSTART;TZID=Europe/Amsterdam:20251122T093000
DTEND;TZID=Europe/Amsterdam:20251122T093000
DTSTAMP:20260422T195739
CREATED:20251017T215223Z
LAST-MODIFIED:20251017T215223Z
UID:1708-1763803800-1763803800@handbalschoolamstelland.nl
SUMMARY:Training D-Jeugd
DESCRIPTION:
URL:https://handbalschoolamstelland.nl/training/training-d-jeugd-12/
LOCATION:De Bloemhof\, Braziliëlaan 6a\, Aalsmeer\, Noord Holland\, 1432DG\, Netherlands
CATEGORIES:Training
END:VEVENT
END:VCALENDAR