BEGIN:VCALENDAR
VERSION:2.0
PRODID:-//Handbalschool Amstelland - ECPv6.15.20//NONSGML v1.0//EN
CALSCALE:GREGORIAN
METHOD:PUBLISH
X-WR-CALNAME:Handbalschool Amstelland
X-ORIGINAL-URL:https://handbalschoolamstelland.nl
X-WR-CALDESC:Evenementen voor Handbalschool Amstelland
REFRESH-INTERVAL;VALUE=DURATION:PT1H
X-Robots-Tag:noindex
X-PUBLISHED-TTL:PT1H
BEGIN:VTIMEZONE
TZID:Europe/Amsterdam
BEGIN:DAYLIGHT
TZOFFSETFROM:+0100
TZOFFSETTO:+0200
TZNAME:CEST
DTSTART:20250330T010000
END:DAYLIGHT
BEGIN:STANDARD
TZOFFSETFROM:+0200
TZOFFSETTO:+0100
TZNAME:CET
DTSTART:20251026T010000
END:STANDARD
BEGIN:DAYLIGHT
TZOFFSETFROM:+0100
TZOFFSETTO:+0200
TZNAME:CEST
DTSTART:20260329T010000
END:DAYLIGHT
BEGIN:STANDARD
TZOFFSETFROM:+0200
TZOFFSETTO:+0100
TZNAME:CET
DTSTART:20261025T010000
END:STANDARD
BEGIN:DAYLIGHT
TZOFFSETFROM:+0100
TZOFFSETTO:+0200
TZNAME:CEST
DTSTART:20270328T010000
END:DAYLIGHT
BEGIN:STANDARD
TZOFFSETFROM:+0200
TZOFFSETTO:+0100
TZNAME:CET
DTSTART:20271031T010000
END:STANDARD
END:VTIMEZONE
BEGIN:VEVENT
DTSTART;TZID=Europe/Amsterdam:20260307T080000
DTEND;TZID=Europe/Amsterdam:20260307T093000
DTSTAMP:20260422T182930
CREATED:20251018T192010Z
LAST-MODIFIED:20251018T192010Z
UID:1951-1772870400-1772875800@handbalschoolamstelland.nl
SUMMARY:Training D-Jeugd
DESCRIPTION:
URL:https://handbalschoolamstelland.nl/training/training-d-jeugd-47/
LOCATION:De Bloemhof\, Braziliëlaan 6a\, Aalsmeer\, Noord Holland\, 1432DG\, Netherlands
CATEGORIES:Training
END:VEVENT
BEGIN:VEVENT
DTSTART;TZID=Europe/Amsterdam:20260307T093000
DTEND;TZID=Europe/Amsterdam:20260307T093000
DTSTAMP:20260422T182930
CREATED:20251017T215254Z
LAST-MODIFIED:20251017T215254Z
UID:1718-1772875800-1772875800@handbalschoolamstelland.nl
SUMMARY:Training D-Jeugd
DESCRIPTION:
URL:https://handbalschoolamstelland.nl/training/training-d-jeugd-22/
LOCATION:De Bloemhof\, Braziliëlaan 6a\, Aalsmeer\, Noord Holland\, 1432DG\, Netherlands
CATEGORIES:Training
END:VEVENT
BEGIN:VEVENT
DTSTART;TZID=Europe/Amsterdam:20260314T080000
DTEND;TZID=Europe/Amsterdam:20260314T093000
DTSTAMP:20260422T182930
CREATED:20251018T192010Z
LAST-MODIFIED:20251018T192010Z
UID:1952-1773475200-1773480600@handbalschoolamstelland.nl
SUMMARY:Training D-Jeugd
DESCRIPTION:
URL:https://handbalschoolamstelland.nl/training/training-d-jeugd-48/
LOCATION:De Bloemhof\, Braziliëlaan 6a\, Aalsmeer\, Noord Holland\, 1432DG\, Netherlands
CATEGORIES:Training
END:VEVENT
BEGIN:VEVENT
DTSTART;TZID=Europe/Amsterdam:20260314T093000
DTEND;TZID=Europe/Amsterdam:20260314T093000
DTSTAMP:20260422T182930
CREATED:20251017T215254Z
LAST-MODIFIED:20251017T215254Z
UID:1719-1773480600-1773480600@handbalschoolamstelland.nl
SUMMARY:Training D-Jeugd
DESCRIPTION:
URL:https://handbalschoolamstelland.nl/training/training-d-jeugd-23/
LOCATION:De Bloemhof\, Braziliëlaan 6a\, Aalsmeer\, Noord Holland\, 1432DG\, Netherlands
CATEGORIES:Training
END:VEVENT
BEGIN:VEVENT
DTSTART;TZID=Europe/Amsterdam:20260321T080000
DTEND;TZID=Europe/Amsterdam:20260321T093000
DTSTAMP:20260422T182930
CREATED:20251018T192011Z
LAST-MODIFIED:20251018T192011Z
UID:1953-1774080000-1774085400@handbalschoolamstelland.nl
SUMMARY:Training D-Jeugd
DESCRIPTION:
URL:https://handbalschoolamstelland.nl/training/training-d-jeugd-49/
LOCATION:De Bloemhof\, Braziliëlaan 6a\, Aalsmeer\, Noord Holland\, 1432DG\, Netherlands
CATEGORIES:Training
END:VEVENT
BEGIN:VEVENT
DTSTART;TZID=Europe/Amsterdam:20260321T093000
DTEND;TZID=Europe/Amsterdam:20260321T093000
DTSTAMP:20260422T182930
CREATED:20251017T215254Z
LAST-MODIFIED:20251017T215254Z
UID:1720-1774085400-1774085400@handbalschoolamstelland.nl
SUMMARY:Training D-Jeugd
DESCRIPTION:
URL:https://handbalschoolamstelland.nl/training/training-d-jeugd-24/
LOCATION:De Bloemhof\, Braziliëlaan 6a\, Aalsmeer\, Noord Holland\, 1432DG\, Netherlands
CATEGORIES:Training
END:VEVENT
BEGIN:VEVENT
DTSTART;TZID=Europe/Amsterdam:20260328T080000
DTEND;TZID=Europe/Amsterdam:20260328T093000
DTSTAMP:20260422T182930
CREATED:20251018T192011Z
LAST-MODIFIED:20251018T192011Z
UID:1954-1774684800-1774690200@handbalschoolamstelland.nl
SUMMARY:Training D-Jeugd
DESCRIPTION:
URL:https://handbalschoolamstelland.nl/training/training-d-jeugd-50/
LOCATION:De Bloemhof\, Braziliëlaan 6a\, Aalsmeer\, Noord Holland\, 1432DG\, Netherlands
CATEGORIES:Training
END:VEVENT
BEGIN:VEVENT
DTSTART;TZID=Europe/Amsterdam:20260328T093000
DTEND;TZID=Europe/Amsterdam:20260328T093000
DTSTAMP:20260422T182930
CREATED:20251017T215255Z
LAST-MODIFIED:20251017T215255Z
UID:1721-1774690200-1774690200@handbalschoolamstelland.nl
SUMMARY:Training D-Jeugd
DESCRIPTION:
URL:https://handbalschoolamstelland.nl/training/training-d-jeugd-25/
LOCATION:De Bloemhof\, Braziliëlaan 6a\, Aalsmeer\, Noord Holland\, 1432DG\, Netherlands
CATEGORIES:Training
END:VEVENT
END:VCALENDAR