BEGIN:VCALENDAR
VERSION:2.0
PRODID:-//Handbalschool Amstelland - ECPv6.15.20//NONSGML v1.0//EN
CALSCALE:GREGORIAN
METHOD:PUBLISH
X-WR-CALNAME:Handbalschool Amstelland
X-ORIGINAL-URL:https://handbalschoolamstelland.nl
X-WR-CALDESC:Evenementen voor Handbalschool Amstelland
REFRESH-INTERVAL;VALUE=DURATION:PT1H
X-Robots-Tag:noindex
X-PUBLISHED-TTL:PT1H
BEGIN:VTIMEZONE
TZID:Europe/Helsinki
BEGIN:DAYLIGHT
TZOFFSETFROM:+0200
TZOFFSETTO:+0300
TZNAME:EEST
DTSTART:20230326T010000
END:DAYLIGHT
BEGIN:STANDARD
TZOFFSETFROM:+0300
TZOFFSETTO:+0200
TZNAME:EET
DTSTART:20231029T010000
END:STANDARD
BEGIN:DAYLIGHT
TZOFFSETFROM:+0200
TZOFFSETTO:+0300
TZNAME:EEST
DTSTART:20240331T010000
END:DAYLIGHT
BEGIN:STANDARD
TZOFFSETFROM:+0300
TZOFFSETTO:+0200
TZNAME:EET
DTSTART:20241027T010000
END:STANDARD
BEGIN:DAYLIGHT
TZOFFSETFROM:+0200
TZOFFSETTO:+0300
TZNAME:EEST
DTSTART:20250330T010000
END:DAYLIGHT
BEGIN:STANDARD
TZOFFSETFROM:+0300
TZOFFSETTO:+0200
TZNAME:EET
DTSTART:20251026T010000
END:STANDARD
BEGIN:DAYLIGHT
TZOFFSETFROM:+0200
TZOFFSETTO:+0300
TZNAME:EEST
DTSTART:20260329T010000
END:DAYLIGHT
BEGIN:STANDARD
TZOFFSETFROM:+0300
TZOFFSETTO:+0200
TZNAME:EET
DTSTART:20261025T010000
END:STANDARD
END:VTIMEZONE
BEGIN:VEVENT
DTSTART;TZID=Europe/Helsinki:20250102T073000
DTEND;TZID=Europe/Helsinki:20250102T090000
DTSTAMP:20260423T083202
CREATED:20241029T203417Z
LAST-MODIFIED:20250924T211925Z
UID:392-1735803000-1735808400@handbalschoolamstelland.nl
SUMMARY:Geen Trainen ivm Kerstvakantie
DESCRIPTION:
URL:https://handbalschoolamstelland.nl/training/geen-trainen-ivm-kerstvakantie/
CATEGORIES:Mededeling
END:VEVENT
BEGIN:VEVENT
DTSTART;TZID=Europe/Helsinki:20241228T080000
DTEND;TZID=Europe/Helsinki:20241228T090000
DTSTAMP:20260423T083202
CREATED:20241029T203305Z
LAST-MODIFIED:20250924T211743Z
UID:388-1735372800-1735376400@handbalschoolamstelland.nl
SUMMARY:Geen Trainen ivm Kerstvakantie
DESCRIPTION:
URL:https://handbalschoolamstelland.nl/training/geen-trainen-ivm-kerst-2/
CATEGORIES:Mededeling
END:VEVENT
BEGIN:VEVENT
DTSTART;TZID=Europe/Helsinki:20241226T073000
DTEND;TZID=Europe/Helsinki:20241226T090000
DTSTAMP:20260423T083202
CREATED:20241029T203145Z
LAST-MODIFIED:20250924T211955Z
UID:386-1735198200-1735203600@handbalschoolamstelland.nl
SUMMARY:Geen Trainen ivm Kerstvakantie
DESCRIPTION:
URL:https://handbalschoolamstelland.nl/training/geen-trainen-ivm-kerst/
CATEGORIES:Mededeling
END:VEVENT
END:VCALENDAR