BEGIN:VCALENDAR
VERSION:2.0
PRODID:-//Handbalschool Amstelland - ECPv6.15.20//NONSGML v1.0//EN
CALSCALE:GREGORIAN
METHOD:PUBLISH
X-WR-CALNAME:Handbalschool Amstelland
X-ORIGINAL-URL:https://handbalschoolamstelland.nl
X-WR-CALDESC:Evenementen voor Handbalschool Amstelland
REFRESH-INTERVAL;VALUE=DURATION:PT1H
X-Robots-Tag:noindex
X-PUBLISHED-TTL:PT1H
BEGIN:VTIMEZONE
TZID:Europe/Helsinki
BEGIN:DAYLIGHT
TZOFFSETFROM:+0200
TZOFFSETTO:+0300
TZNAME:EEST
DTSTART:20240331T010000
END:DAYLIGHT
BEGIN:STANDARD
TZOFFSETFROM:+0300
TZOFFSETTO:+0200
TZNAME:EET
DTSTART:20241027T010000
END:STANDARD
BEGIN:DAYLIGHT
TZOFFSETFROM:+0200
TZOFFSETTO:+0300
TZNAME:EEST
DTSTART:20250330T010000
END:DAYLIGHT
BEGIN:STANDARD
TZOFFSETFROM:+0300
TZOFFSETTO:+0200
TZNAME:EET
DTSTART:20251026T010000
END:STANDARD
BEGIN:DAYLIGHT
TZOFFSETFROM:+0200
TZOFFSETTO:+0300
TZNAME:EEST
DTSTART:20260329T010000
END:DAYLIGHT
BEGIN:STANDARD
TZOFFSETFROM:+0300
TZOFFSETTO:+0200
TZNAME:EET
DTSTART:20261025T010000
END:STANDARD
END:VTIMEZONE
BEGIN:VEVENT
DTSTART;TZID=Europe/Helsinki:20250501T094500
DTEND;TZID=Europe/Helsinki:20250501T160000
DTSTAMP:20260423T162941
CREATED:20250309T174304Z
LAST-MODIFIED:20250925T211747Z
UID:889-1746092700-1746115200@handbalschoolamstelland.nl
SUMMARY:Handbal Clinic E en D Jeugd
DESCRIPTION:Handbalschool Amstelland organiseerd op 1 Mei een clinic.\nVan 9.45 uur tot 16.00 uur vindt op donderdag 1 mei bij de Bloemhof een clinic plaats voor jongens en meisjes in de E en D leeftijd (2012-2015).\nJe gaat 2 keer in de zaal trainen en in de middag ga je lekker trainen in het zand. Beachhandbaltalenten gaan je allerlei nieuwe skills leren die je nodig hebt bij beachhandbal.\nJe krijgt tussen de training door een gezonde lunch aangeboden. \nInschrijven kan via het inschrijfformulier
URL:https://handbalschoolamstelland.nl/training/handbal-clinic-e-en-d-jeugd/
LOCATION:De Bloemhof\, Braziliëlaan 6a\, Aalsmeer\, Noord Holland\, 1432DG\, Netherlands
CATEGORIES:Clinic
END:VEVENT
END:VCALENDAR